BEGIN:VCALENDAR
VERSION:2.0
PRODID:-//San Diego Real Estate Investment Club | Learn REI Opportunities - ECPv6.15.20//NONSGML v1.0//EN
CALSCALE:GREGORIAN
METHOD:PUBLISH
X-WR-CALNAME:San Diego Real Estate Investment Club | Learn REI Opportunities
X-ORIGINAL-URL:https://sdreinvestor.com
X-WR-CALDESC:Events for San Diego Real Estate Investment Club | Learn REI Opportunities
REFRESH-INTERVAL;VALUE=DURATION:PT1H
X-Robots-Tag:noindex
X-PUBLISHED-TTL:PT1H
BEGIN:VTIMEZONE
TZID:America/Los_Angeles
BEGIN:DAYLIGHT
TZOFFSETFROM:-0800
TZOFFSETTO:-0700
TZNAME:PDT
DTSTART:20250309T100000
END:DAYLIGHT
BEGIN:STANDARD
TZOFFSETFROM:-0700
TZOFFSETTO:-0800
TZNAME:PST
DTSTART:20251102T090000
END:STANDARD
BEGIN:DAYLIGHT
TZOFFSETFROM:-0800
TZOFFSETTO:-0700
TZNAME:PDT
DTSTART:20260308T100000
END:DAYLIGHT
BEGIN:STANDARD
TZOFFSETFROM:-0700
TZOFFSETTO:-0800
TZNAME:PST
DTSTART:20261101T090000
END:STANDARD
BEGIN:DAYLIGHT
TZOFFSETFROM:-0800
TZOFFSETTO:-0700
TZNAME:PDT
DTSTART:20270314T100000
END:DAYLIGHT
BEGIN:STANDARD
TZOFFSETFROM:-0700
TZOFFSETTO:-0800
TZNAME:PST
DTSTART:20271107T090000
END:STANDARD
END:VTIMEZONE
BEGIN:VEVENT
DTSTART;TZID=America/Los_Angeles:20260507T180000
DTEND;TZID=America/Los_Angeles:20260507T210000
DTSTAMP:20260422T104305
CREATED:20260416T170021Z
LAST-MODIFIED:20260418T095825Z
UID:36914-1778176800-1778187600@sdreinvestor.com
SUMMARY:Real Estate Legal Aspects Class
DESCRIPTION:Live Legal Aspects of Real Estate Class\n \nReal estate is filled with legal issues\, forms\, and contracts.  \nTaught by veteran Real Estate Broker and Investor Gregg Watkins\, this class covers all the essentials.  \nDiscussion includes the main laws governing real estate\, property interests\, title and vesting\, dispute resolution\, contract law\, listing and purchase agreements\, and other contracts commonly used in real estate transactions.\n \nThis class fulfills the elective requirement to obtain a California Real Estate License.\n \nCourse fee includes textbook\, quizzes\, final exam and course certificate.  \nThe class is 4 weeks\, and meets on Thursdays from 6-9pm\, starting May 7. \nTo register for this or other real estate licensing classes\, go to: Poway Adult School
URL:https://sdreinvestor.com/event/real-estate-legal-aspects-class-5-7-26/
LOCATION:Abraxas High School Media Center
CATEGORIES:Classes
ATTACH;FMTTYPE=image/jpeg:https://sdreinvestor.com/wp-content/uploads/2024/07/Exam-Prep-450x300-1.jpg
END:VEVENT
END:VCALENDAR