BEGIN:VCALENDAR
VERSION:2.0
PRODID:-//San Diego Real Estate Investment Club | Learn REI Opportunities - ECPv6.15.20//NONSGML v1.0//EN
CALSCALE:GREGORIAN
METHOD:PUBLISH
X-WR-CALNAME:San Diego Real Estate Investment Club | Learn REI Opportunities
X-ORIGINAL-URL:https://sdreinvestor.com
X-WR-CALDESC:Events for San Diego Real Estate Investment Club | Learn REI Opportunities
REFRESH-INTERVAL;VALUE=DURATION:PT1H
X-Robots-Tag:noindex
X-PUBLISHED-TTL:PT1H
BEGIN:VTIMEZONE
TZID:America/Los_Angeles
BEGIN:DAYLIGHT
TZOFFSETFROM:-0800
TZOFFSETTO:-0700
TZNAME:PDT
DTSTART:20150308T100000
END:DAYLIGHT
BEGIN:STANDARD
TZOFFSETFROM:-0700
TZOFFSETTO:-0800
TZNAME:PST
DTSTART:20151101T090000
END:STANDARD
BEGIN:DAYLIGHT
TZOFFSETFROM:-0800
TZOFFSETTO:-0700
TZNAME:PDT
DTSTART:20160313T100000
END:DAYLIGHT
BEGIN:STANDARD
TZOFFSETFROM:-0700
TZOFFSETTO:-0800
TZNAME:PST
DTSTART:20161106T090000
END:STANDARD
BEGIN:DAYLIGHT
TZOFFSETFROM:-0800
TZOFFSETTO:-0700
TZNAME:PDT
DTSTART:20170312T100000
END:DAYLIGHT
BEGIN:STANDARD
TZOFFSETFROM:-0700
TZOFFSETTO:-0800
TZNAME:PST
DTSTART:20171105T090000
END:STANDARD
BEGIN:DAYLIGHT
TZOFFSETFROM:-0800
TZOFFSETTO:-0700
TZNAME:PDT
DTSTART:20180311T100000
END:DAYLIGHT
BEGIN:STANDARD
TZOFFSETFROM:-0700
TZOFFSETTO:-0800
TZNAME:PST
DTSTART:20181104T090000
END:STANDARD
BEGIN:DAYLIGHT
TZOFFSETFROM:-0800
TZOFFSETTO:-0700
TZNAME:PDT
DTSTART:20190310T100000
END:DAYLIGHT
BEGIN:STANDARD
TZOFFSETFROM:-0700
TZOFFSETTO:-0800
TZNAME:PST
DTSTART:20191103T090000
END:STANDARD
BEGIN:DAYLIGHT
TZOFFSETFROM:-0800
TZOFFSETTO:-0700
TZNAME:PDT
DTSTART:20200308T100000
END:DAYLIGHT
BEGIN:STANDARD
TZOFFSETFROM:-0700
TZOFFSETTO:-0800
TZNAME:PST
DTSTART:20201101T090000
END:STANDARD
BEGIN:DAYLIGHT
TZOFFSETFROM:-0800
TZOFFSETTO:-0700
TZNAME:PDT
DTSTART:20210314T100000
END:DAYLIGHT
BEGIN:STANDARD
TZOFFSETFROM:-0700
TZOFFSETTO:-0800
TZNAME:PST
DTSTART:20211107T090000
END:STANDARD
BEGIN:DAYLIGHT
TZOFFSETFROM:-0800
TZOFFSETTO:-0700
TZNAME:PDT
DTSTART:20220313T100000
END:DAYLIGHT
BEGIN:STANDARD
TZOFFSETFROM:-0700
TZOFFSETTO:-0800
TZNAME:PST
DTSTART:20221106T090000
END:STANDARD
BEGIN:DAYLIGHT
TZOFFSETFROM:-0800
TZOFFSETTO:-0700
TZNAME:PDT
DTSTART:20230312T100000
END:DAYLIGHT
BEGIN:STANDARD
TZOFFSETFROM:-0700
TZOFFSETTO:-0800
TZNAME:PST
DTSTART:20231105T090000
END:STANDARD
BEGIN:DAYLIGHT
TZOFFSETFROM:-0800
TZOFFSETTO:-0700
TZNAME:PDT
DTSTART:20240310T100000
END:DAYLIGHT
BEGIN:STANDARD
TZOFFSETFROM:-0700
TZOFFSETTO:-0800
TZNAME:PST
DTSTART:20241103T090000
END:STANDARD
BEGIN:DAYLIGHT
TZOFFSETFROM:-0800
TZOFFSETTO:-0700
TZNAME:PDT
DTSTART:20250309T100000
END:DAYLIGHT
BEGIN:STANDARD
TZOFFSETFROM:-0700
TZOFFSETTO:-0800
TZNAME:PST
DTSTART:20251102T090000
END:STANDARD
END:VTIMEZONE
BEGIN:VEVENT
DTSTART;TZID=America/Los_Angeles:20240518T150000
DTEND;TZID=America/Los_Angeles:20240518T160000
DTSTAMP:20260424T172154
CREATED:20240501T170045Z
LAST-MODIFIED:20250224T025810Z
UID:36438-1716044400-1716048000@sdreinvestor.com
SUMMARY:House Flipping - Post Repairs
DESCRIPTION:Three of our Members – Gregg\, Art and Pat remodeled this Kensington house from top to bottom as a Fix and Flip.\n \nBefore we close our sale escrow\, we’re inviting some people to the house so they can see the “after” condition and what was done. \nWe’ll briefly talk about house flipping opportunities\, and will discuss a few of our ADU and multiunit projects\, and possible investment opportunities there as well. \nAttendees may be:  \nUnlicensed Finders – People interested to learn how to “Find” off-market properties that we can buy.\n \nLicensed Agents – Learn how to make up to 3-4x commission for a single deal on off-market properties! \nPrivate Lenders – Learn how to make Earn 10% Interest annually by Investing in Real Estate and NEVER have to Step Foot Inside a House or Deal with a Contractor! \nFuture Investor Partners – Start as a Finder or Agent finding off-market fixers\, and after doing a few deals you’ll be given the opportunity to partner with us on future deals!  \nNewbies – People interested to learn more!  \nGregg and Art have 40 years of combined real estate experience and have remodeled hundreds of houses. You’ll see a few examples of these on the Seren Homes website under Gallery.  \nTo attend this meetup\, register here.
URL:https://sdreinvestor.com/event/house-flipping-meetup-post-repairs-may-18-24-3pm/
LOCATION:4549 E Talmadge Dr
CATEGORIES:REI Meetup
ATTACH;FMTTYPE=image/jpeg:https://sdreinvestor.com/wp-content/uploads/2024/08/Talmadge-front-new.jpg
ORGANIZER;CN="SDREIC":MAILTO:info@sdreinvestor.com
END:VEVENT
BEGIN:VEVENT
DTSTART;TZID=America/Los_Angeles:20240518T130000
DTEND;TZID=America/Los_Angeles:20240518T140000
DTSTAMP:20260424T172154
CREATED:20240501T170029Z
LAST-MODIFIED:20250224T025730Z
UID:36433-1716037200-1716040800@sdreinvestor.com
SUMMARY:House Flipping - Post Repairs
DESCRIPTION:Three of our Members – Gregg\, Art and Pat remodeled this Kensington house from top to bottom as a Fix and Flip.\n \nBefore we close our sale escrow\, we’re inviting some people to the house so they can see the “after” condition and what was done. \nWe’ll briefly talk about house flipping opportunities\, and will discuss a few of our ADU and multiunit projects\, and possible investment opportunities there as well. \nAttendees may be:  \nUnlicensed Finders – People interested to learn how to “Find” off-market properties that we can buy.\n \nLicensed Agents – Learn how to make up to 3-4x commission for a single deal on off-market properties! \nPrivate Lenders – Learn how to make Earn 10% Interest annually by Investing in Real Estate and NEVER have to Step Foot Inside a House or Deal with a Contractor! \nFuture Investor Partners – Start as a Finder or Agent finding off-market fixers\, and after doing a few deals you’ll be given the opportunity to partner with us on future deals!  \nNewbies – People interested to learn more!  \nGregg and Art have 40 years of combined real estate experience and have remodeled hundreds of houses. You’ll see a few examples of these on the Seren Homes website under Gallery.  \nTo attend this meetup\, register here.
URL:https://sdreinvestor.com/event/house-flipping-meetup-post-repairs-may-18-2024-1pm/
LOCATION:4549 E Talmadge Dr
CATEGORIES:REI Meetup
ATTACH;FMTTYPE=image/jpeg:https://sdreinvestor.com/wp-content/uploads/2024/08/Talmadge-front-new.jpg
ORGANIZER;CN="SDREIC":MAILTO:info@sdreinvestor.com
END:VEVENT
BEGIN:VEVENT
DTSTART;TZID=America/Los_Angeles:20230910T130000
DTEND;TZID=America/Los_Angeles:20230910T150000
DTSTAMP:20260424T172154
CREATED:20230705T085229Z
LAST-MODIFIED:20241230T075730Z
UID:18280-1694350800-1694358000@sdreinvestor.com
SUMMARY:House Flipping - Post Repairs
DESCRIPTION:Two of our members\, Gregg Watkins and Art Haffling\, bought this house and remodeled it from top to bottom as a Fix and Flip.\n \nAnd we are inviting some people to the house so they can see the “after” condition and what was done.\n \nAttendees may be:\n \nUnlicensed Finders – People interested to learn how to “Find” off-market properties that we can buy.\n \nLicensed Agents – Learn how to make up to 3-4x commission for a single deal on off-market properties! \nPrivate Lenders – Learn how to make Earn 9% Interest annually by Investing in Real Estate and NEVER have to Step Foot Inside a House or Deal with a Contractor! \nFuture Investor Partners – Start as a Finder or Agent finding off-market fixers\, and after doing a few deals you’ll be given the opportunity to partner with us on future deals!  \nNewbies – People interested to learn more!  \nGregg and Art have 40 years of combined real estate experience and have remodeled hundreds of houses. You’ll see a few examples of these on our Seren Homes website under Gallery.  \nTo attend this meetup\, register here.
URL:https://sdreinvestor.com/event/house-flipping-meetup-sept-10-at-1-pm/
CATEGORIES:REI Meetup
ATTACH;FMTTYPE=image/jpeg:https://sdreinvestor.com/wp-content/uploads/2023/07/73rd-St-post.jpg
ORGANIZER;CN="SDREIC":MAILTO:info@sdreinvestor.com
END:VEVENT
BEGIN:VEVENT
DTSTART;TZID=America/Los_Angeles:20230625T130000
DTEND;TZID=America/Los_Angeles:20230625T150000
DTSTAMP:20260424T172154
CREATED:20230602T025645Z
LAST-MODIFIED:20230918T213126Z
UID:18270-1687698000-1687705200@sdreinvestor.com
SUMMARY:House Flipping Meetup
DESCRIPTION:Two of our members bought this house\, and will be remodeling it from top to bottom as a Fix and Flip.\n \nWe are holding an REI Investing Meetups to invite some people to the house at the beginning of the project so they can see the “before” condition prior to the “after” rehab when it is ready to go back on the market. We’ll discuss our plans\, and also hear from attendees as to “What would you do?”\n \nAttendees May Be:\n \nUnlicensed Finders – People interested to learn how to “Find” off-market properties that we can buy.\n \nLicensed Agents – Learn how to make up to 3-4x commission for a single deal on off-market properties! \nPrivate Lenders – Learn how to make Earn 9% Interest annually by Investing in Real Estate and NEVER have to Step Foot Inside a House or Deal with a Contractor! \nFuture Investor Partners – Start as a Finder or Agent finding off-market fixers\, and after doing a few deals you’ll be given the opportunity to partner with us on future deals!  \nNewbies – People interested to learn more!  \nGregg and Art have 40 years of combined real estate experience and have remodeled hundreds of houses. You’ll see a few examples of these on our Seren Homes website under Gallery.  \nTo attend this meetup\, register here.
URL:https://sdreinvestor.com/event/house-flipping-meetup-june-25-at-1-pm/
CATEGORIES:REI Meetup
ATTACH;FMTTYPE=image/jpeg:https://sdreinvestor.com/wp-content/uploads/2023/06/73rd-St-front.jpg
ORGANIZER;CN="SDREIC":MAILTO:info@sdreinvestor.com
END:VEVENT
BEGIN:VEVENT
DTSTART;TZID=America/Los_Angeles:20230624T150000
DTEND;TZID=America/Los_Angeles:20230624T170000
DTSTAMP:20260424T172154
CREATED:20230601T170048Z
LAST-MODIFIED:20230918T212908Z
UID:18265-1687618800-1687626000@sdreinvestor.com
SUMMARY:House Flipping Meetup
DESCRIPTION:Two of our members bought this house\, and will be remodeling it from top to bottom as a Fix and Flip.\n \nWe are holding an REI Investing Meetups to invite some people to the house at the beginning of the project so they can see the “before” condition prior to the “after” rehab when it is ready to go back on the market. We’ll discuss our plans\, and also hear from attendees as to “What would you do?”\n \nAttendees May Be:\n \nUnlicensed Finders – People interested to learn how to “Find” off-market properties that we can buy.\n \nLicensed Agents – Learn how to make up to 3-4x commission for a single deal on off-market properties! \nPrivate Lenders – Learn how to make Earn 9% Interest annually by Investing in Real Estate and NEVER have to Step Foot Inside a House or Deal with a Contractor! \nFuture Investor Partners – Start as a Finder or Agent finding off-market fixers\, and after doing a few deals you’ll be given the opportunity to partner with us on future deals!  \nNewbies – People interested to learn more!  \nGregg and Art have 40 years of combined real estate experience and have remodeled hundreds of houses. You’ll see a few examples of these on our Seren Homes website under Gallery.  \nTo attend this meetup\, register here.
URL:https://sdreinvestor.com/event/house-flipping-meetup-june-24-at-3-pm/
CATEGORIES:REI Meetup
ATTACH;FMTTYPE=image/jpeg:https://sdreinvestor.com/wp-content/uploads/2023/06/73rd-St-front.jpg
ORGANIZER;CN="SDREIC":MAILTO:info@sdreinvestor.com
END:VEVENT
BEGIN:VEVENT
DTSTART;TZID=America/Los_Angeles:20230624T130000
DTEND;TZID=America/Los_Angeles:20230624T150000
DTSTAMP:20260424T172154
CREATED:20230918T212744Z
LAST-MODIFIED:20230918T212744Z
UID:18351-1687611600-1687618800@sdreinvestor.com
SUMMARY:House Flipping Meetup
DESCRIPTION:Two of our members bought this house\, and will be remodeling it from top to bottom as a Fix and Flip.\n \nWe are holding an REI Investing Meetups to invite some people to the house at the beginning of the project so they can see the “before” condition prior to the “after” rehab when it is ready to go back on the market. We’ll discuss our plans\, and also hear from attendees as to “What would you do?”\n \nAttendees May Be:\n \nUnlicensed Finders – People interested to learn how to “Find” off-market properties that we can buy.\n \nLicensed Agents – Learn how to make up to 3-4x commission for a single deal on off-market properties! \nPrivate Lenders – Learn how to make Earn 9% Interest annually by Investing in Real Estate and NEVER have to Step Foot Inside a House or Deal with a Contractor! \nFuture Investor Partners – Start as a Finder or Agent finding off-market fixers\, and after doing a few deals you’ll be given the opportunity to partner with us on future deals!  \nNewbies – People interested to learn more!  \nGregg and Art have 40 years of combined real estate experience and have remodeled hundreds of houses. You’ll see a few examples of these on our Seren Homes website under Gallery.  \nTo attend this meetup\, register here.
URL:https://sdreinvestor.com/event/house-flipping-meetup-june-24-at-1-pm/
CATEGORIES:REI Meetup
ATTACH;FMTTYPE=image/jpeg:https://sdreinvestor.com/wp-content/uploads/2023/06/73rd-St-front.jpg
ORGANIZER;CN="SDREIC":MAILTO:info@sdreinvestor.com
END:VEVENT
BEGIN:VEVENT
DTSTART;TZID=America/Los_Angeles:20190817T190000
DTEND;TZID=America/Los_Angeles:20190817T210000
DTSTAMP:20260424T172154
CREATED:20230705T081900Z
LAST-MODIFIED:20250224T030138Z
UID:18274-1566068400-1566075600@sdreinvestor.com
SUMMARY:House Flipping Opportunities
DESCRIPTION:Learn the Fundamentals of House Flipping and the associated opportunities – for both beginners and experienced investors. \nIt doesn’t matter if you have experience or money. There are many ways to get started without either. \nWhen you combine solid investing principles with hard work and sound techniques\, the sky is the limit in real estate! \nJoin us when local seasoned investor and SDREIC founder Gregg Watkins covers: \n\nThe 4 Fundamentals of House Flipping\nHow to Start with no Capital or Experience\nBecome a Private Lender and Increase the Return on your Money \n\nDon’t miss this valuable opportunity to ensure your business is on the fast track to success! \nAgenda \n7:00  Networking\n7:45  Introductions\, Market Update\n8:00  Speaker and Q&A\n \nUse the time before and after the meeting to network and meet other investors with similar goals and interests. \nAbout the Speaker:\nGregg Watkins has a 20-year profile of success as a licensed Real Estate Broker\, Investor and Entrepreneur. He has negotiated hundreds of real estate transactions\, including real estate investments\, traditional sales\, short sales\, probate sales\, and trust sales. Since 2008\, Gregg has been working with fellow real estate investors to locate distressed single family homes to acquire\, renovate and re-sell for a profit.
URL:https://sdreinvestor.com/event/house-flipping-opportunities-2/
LOCATION:On The Border – Patio Room\, 1770 Camino De La Reina\, San Diego\, CA\, 92108\, United States
CATEGORIES:REI Meetup
ATTACH;FMTTYPE=image/jpeg:https://sdreinvestor.com/wp-content/uploads/2016/02/10353742_2.jpg
ORGANIZER;CN="SDREIC":MAILTO:info@sdreinvestor.com
END:VEVENT
BEGIN:VEVENT
DTSTART;TZID=America/Los_Angeles:20160615T190000
DTEND;TZID=America/Los_Angeles:20160615T210000
DTSTAMP:20260424T172154
CREATED:20160214T091906Z
LAST-MODIFIED:20250224T030305Z
UID:15205-1466017200-1466024400@sdreinvestor.com
SUMMARY:House Flipping Opportunities
DESCRIPTION:Learn the Fundamentals of House Flipping and the associated opportunities – for both beginners and experienced investors. \nIt doesn’t matter if you have experience or money. There are many ways to get started without either. \nWhen you combine solid investing principles with hard work and sound techniques\, the sky is the limit in real estate! \nJoin us when local seasoned investor and SDREIC founder Gregg Watkins covers: \n\nThe 4 Fundamentals of House Flipping\nHow to Start with no Capital or Experience\nBecome a Private Lender and Increase the Return on your Money \n\nDon’t miss this valuable opportunity to ensure your business is on the fast track to success! \nAgenda \n7:00  Networking\n7:45  Introductions\, Market Update\n8:00  Speaker and Q&A\n \nUse the time before and after the meeting to network and meet other investors with similar goals and interests. \nAbout the Speaker:\nGregg Watkins has a 20-year profile of success as a licensed Real Estate Broker\, Investor and Entrepreneur. He has negotiated hundreds of real estate transactions\, including real estate investments\, traditional sales\, short sales\, probate sales\, and trust sales. Since 2008\, Gregg has been working with fellow real estate investors to locate distressed single family homes to acquire\, renovate and re-sell for a profit.
URL:https://sdreinvestor.com/event/house-flipping-opportunities2/
LOCATION:On The Border – Patio Room\, 1770 Camino De La Reina\, San Diego\, CA\, 92108\, United States
CATEGORIES:REI Meetup
ATTACH;FMTTYPE=image/jpeg:https://sdreinvestor.com/wp-content/uploads/2016/02/10353742_2.jpg
ORGANIZER;CN="SDREIC":MAILTO:info@sdreinvestor.com
END:VEVENT
BEGIN:VEVENT
DTSTART;TZID=America/Los_Angeles:20160614T190000
DTEND;TZID=America/Los_Angeles:20160614T210000
DTSTAMP:20260424T172154
CREATED:20160511T171149Z
LAST-MODIFIED:20250224T030406Z
UID:15174-1465930800-1465938000@sdreinvestor.com
SUMMARY:Title Resources For Your Business
DESCRIPTION:Learn how Title Insurance Representatives can help Investors and Real Estate Agents: \n\nTitle Insurance Options\nInvestor Binders\nBusiness Origination Strategies\nLead Generation Campaigns to Jump Start your Business!\n\nDon’t miss this valuable opportunity to ensure your business is on the fast track to success! \nAgenda \n7:00  Networking\n7:45  Introductions\, Market Update\n8:00  Speaker and Q&A\n \nUse the time before and after the meeting to network and meet other investors with similar goals and interests. \nAbout the Speaker:\n \nRyan Lipsey is a San Diego native that has enjoyed over thirteen years in the title insurance profession. Whether Residential or Commercial\, Resale or Refinance\, Community Bank or Mortgage Brokerage Firm\, Ryan has serviced every client\, and is familiar with the needs of all who practice within the worlds of real estate and finance. Specializing in Business Planning and Marketing Solutions with agents of all levels and skill sets\, he brings results to your business development efforts.
URL:https://sdreinvestor.com/event/title-insurance-resources-can-help-business-2/
LOCATION:Claim Jumper – Palomar Room\, 12384 Carmel Mountain Rd\, San Diego\, 92128
CATEGORIES:REI Meetup
ATTACH;FMTTYPE=image/jpeg:https://sdreinvestor.com/wp-content/uploads/2016/03/Title-Insurance.jpg
ORGANIZER;CN="SDREIC":MAILTO:info@sdreinvestor.com
END:VEVENT
BEGIN:VEVENT
DTSTART;TZID=America/Los_Angeles:20160510T190000
DTEND;TZID=America/Los_Angeles:20160510T210000
DTSTAMP:20260424T172154
CREATED:20160325T172345Z
LAST-MODIFIED:20250224T030514Z
UID:15084-1462906800-1462914000@sdreinvestor.com
SUMMARY:The ABCs of Escrow
DESCRIPTION:Learn the ABCs of the Escrow Process: \n\nWhat is an Escrow\nEscrow as the Neutral Third Party\nThe Life of an Escrow\nHow to Eliminate Liens\n\nDon’t miss this valuable opportunity to ensure your business is on the fast track to success! \nAgenda \n7:00  Networking\n7:45  Introductions\, Market Update\n8:00  Speaker and Q&A\n \nUse the time before and after the meeting to network and meet other investors with similar goals and interests. \nAbout the Speaker:\n \nJusten Brown is the Business Development Manager for Alliance Escrow. He connects Brokers\, Real Estate Agents\, Bankers and Loan Officers to a professional escrow team that will complement the business systems they have in place.  \nHis primary goals are to maintain a high level of service\, active communication\, and sense of urgency on every file.  \nNo matter how big or small the company\, or production of an individual\, Alliance Escrow strives to exceed all expectations and build a lasting business relationship.
URL:https://sdreinvestor.com/event/the-abcs-of-escrow/
LOCATION:Claim Jumper – Palomar Room\, 12384 Carmel Mountain Rd\, San Diego\, 92128
CATEGORIES:REI Meetup
ATTACH;FMTTYPE=image/jpeg:https://sdreinvestor.com/wp-content/uploads/2016/03/escrow-e1462962595699.jpg
ORGANIZER;CN="SDREIC":MAILTO:info@sdreinvestor.com
END:VEVENT
BEGIN:VEVENT
DTSTART;TZID=America/Los_Angeles:20160324T190000
DTEND;TZID=America/Los_Angeles:20160324T210000
DTSTAMP:20260424T172154
CREATED:20160214T091906Z
LAST-MODIFIED:20250224T030618Z
UID:14857-1458846000-1458853200@sdreinvestor.com
SUMMARY:House Flipping Opportunities
DESCRIPTION:Learn the Fundamentals of House Flipping and the associated opportunities – for both beginners and experienced investors. \nIt doesn’t matter if you have experience or money. There are many ways to get started without either. \nWhen you combine solid investing principles with hard work and sound techniques\, the sky is the limit in real estate! \nJoin us when local seasoned investor and SDREIC founder Gregg Watkins covers: \n\nThe 4 Fundamentals of House Flipping\nHow to Start with no Capital or Experience\nBecome a Private Lender and Increase the Return on your Money \n\nDon’t miss this valuable opportunity to ensure your business is on the fast track to success! \nAgenda \n7:00  Networking\n7:45  Introductions\, Market Update\n8:00  Speaker and Q&A\n \nUse the time before and after the meeting to network and meet other investors with similar goals and interests. \nAbout the Speaker:\nGregg Watkins has a 20-year profile of success as a licensed Real Estate Broker\, Investor and Entrepreneur. He has negotiated hundreds of real estate transactions\, including real estate investments\, traditional sales\, short sales\, probate sales\, and trust sales. Since 2008\, Gregg has been working with fellow real estate investors to locate distressed single family homes to acquire\, renovate and re-sell for a profit.
URL:https://sdreinvestor.com/event/house-flipping-opportunities/
LOCATION:Claim Jumper – Palomar Room\, 12384 Carmel Mountain Rd\, San Diego\, 92128
CATEGORIES:REI Meetup
ATTACH;FMTTYPE=image/jpeg:https://sdreinvestor.com/wp-content/uploads/2016/02/10353742_2.jpg
ORGANIZER;CN="SDREIC":MAILTO:info@sdreinvestor.com
END:VEVENT
END:VCALENDAR